BEGIN:VCALENDAR
VERSION:2.0
PRODID:-//Die Würzburger Beutelboxer - ECPv6.15.13.1//NONSGML v1.0//EN
CALSCALE:GREGORIAN
METHOD:PUBLISH
X-WR-CALNAME:Die Würzburger Beutelboxer
X-ORIGINAL-URL:https://www.beutelboxer.de
X-WR-CALDESC:Veranstaltungen für Die Würzburger Beutelboxer
REFRESH-INTERVAL;VALUE=DURATION:PT1H
X-Robots-Tag:noindex
X-PUBLISHED-TTL:PT1H
BEGIN:VTIMEZONE
TZID:Europe/Berlin
BEGIN:DAYLIGHT
TZOFFSETFROM:+0100
TZOFFSETTO:+0200
TZNAME:CEST
DTSTART:20250330T010000
END:DAYLIGHT
BEGIN:STANDARD
TZOFFSETFROM:+0200
TZOFFSETTO:+0100
TZNAME:CET
DTSTART:20251026T010000
END:STANDARD
BEGIN:DAYLIGHT
TZOFFSETFROM:+0100
TZOFFSETTO:+0200
TZNAME:CEST
DTSTART:20260329T010000
END:DAYLIGHT
BEGIN:STANDARD
TZOFFSETFROM:+0200
TZOFFSETTO:+0100
TZNAME:CET
DTSTART:20261025T010000
END:STANDARD
BEGIN:DAYLIGHT
TZOFFSETFROM:+0100
TZOFFSETTO:+0200
TZNAME:CEST
DTSTART:20270328T010000
END:DAYLIGHT
BEGIN:STANDARD
TZOFFSETFROM:+0200
TZOFFSETTO:+0100
TZNAME:CET
DTSTART:20271031T010000
END:STANDARD
BEGIN:DAYLIGHT
TZOFFSETFROM:+0100
TZOFFSETTO:+0200
TZNAME:CEST
DTSTART:20280326T010000
END:DAYLIGHT
BEGIN:STANDARD
TZOFFSETFROM:+0200
TZOFFSETTO:+0100
TZNAME:CET
DTSTART:20281029T010000
END:STANDARD
END:VTIMEZONE
BEGIN:VEVENT
DTSTART;TZID=Europe/Berlin:20260510T190000
DTEND;TZID=Europe/Berlin:20260510T190000
DTSTAMP:20260420T163054
CREATED:20250608T104131Z
LAST-MODIFIED:20260315T110747Z
UID:2763-1778439600-1778439600@www.beutelboxer.de
SUMMARY:Theater a la Carte - im Theater Augenblick
DESCRIPTION:Theater a` la Carte\n\nImprovisationstheater mit den Würzburger Beutelboxern. Mit über 30 Jahren Erfahrung gehören die Beutelboxer zu den ältesten Improgruppen Deutschlands und begeistern mit ihrer körperlichen und mimischen Spielart immer wieder ihr Publikum. Vier Schauspieler/in und ein Pianist improvisieren aus dem Stegreif Geschichten nach den Vorschlägen des Publikums: z.B. ein Ort\, ein Gegenstand\, ein Titel.  Nichts ist einstudiert\, jede Geschichte entsteht im Moment vor den Augen der Zuschauer. Eine gelungene Mischung aus Situationskomik\, Pantomime\, Comedy\, Theater und Musik.\n„Theater mit therapeutischer Wirkung- zum Gesundlachen“  (Abendzeitung München).\nDie Beutelboxer: Sie wählen – wir servieren!
URL:https://www.beutelboxer.de/termin/improshow-neunerplatz/
LOCATION:Theater Augenblick\, Oskar-Laredo-Platz 1\, Würzburg\, 97080
ATTACH;FMTTYPE=image/jpeg:https://www.beutelboxer.de/wp-content/uploads/2018/11/1225.jpg
ORGANIZER;CN="Theater am Neunerplatz":MAILTO:theater@neunerplatz.de
END:VEVENT
BEGIN:VEVENT
DTSTART;TZID=Europe/Berlin:20260919T200000
DTEND;TZID=Europe/Berlin:20260919T200000
DTSTAMP:20260420T163054
CREATED:20251008T170645Z
LAST-MODIFIED:20260315T111516Z
UID:2785-1789848000-1789848000@www.beutelboxer.de
SUMMARY:Theater a la Carte - Untereisenheim
DESCRIPTION:Theater a` la Carte\n\nImprovisationstheater mit den Würzburger Beutelboxern. Mit über 30 Jahren Erfahrung gehören die Beutelboxer zu den ältesten Improgruppen Deutschlands und begeistern mit ihrer körperlichen und mimischen Spielart immer wieder ihr Publikum. Vier Schauspieler/in und ein Pianist improvisieren aus dem Stegreif Geschichten nach den Vorschlägen des Publikums: z.B. ein Ort\, ein Gegenstand\, ein Titel.  Nichts ist einstudiert\, jede Geschichte entsteht im Moment vor den Augen der Zuschauer. Eine gelungene Mischung aus Situationskomik\, Pantomime\, Comedy\, Theater und Musik.\n„Theater mit therapeutischer Wirkung- zum Gesundlachen“  (Abendzeitung München).\nDie Beutelboxer: Sie wählen – wir servieren!
URL:https://www.beutelboxer.de/termin/theater-a-la-carte-3/
LOCATION:Rathaus Untereisenheim\, Reichertsgasse 3\, Eisenheim\, 97247\, Germany
ATTACH;FMTTYPE=image/jpeg:https://www.beutelboxer.de/wp-content/uploads/2018/11/1304.jpg
ORGANIZER;CN="Andreas Ho%C3%9Fmann":MAILTO:mailto:eisenheim-hossmann@t-online.de
END:VEVENT
BEGIN:VEVENT
DTSTART;TZID=Europe/Berlin:20260925T200000
DTEND;TZID=Europe/Berlin:20260925T200000
DTSTAMP:20260420T163054
CREATED:20250608T104131Z
LAST-MODIFIED:20251018T081839Z
UID:2796-1790366400-1790366400@www.beutelboxer.de
SUMMARY:Improshow - Neunerplatz
DESCRIPTION:Theater a` la Carte\n\nImprovisationstheater mit den Würzburger Beutelboxern. Mit über 30 Jahren Erfahrung gehören die Beutelboxer zu den ältesten Improgruppen Deutschlands und begeistern mit ihrer körperlichen und mimischen Spielart immer wieder ihr Publikum. Vier Schauspieler/in und ein Pianist improvisieren aus dem Stegreif Geschichten nach den Vorschlägen des Publikums: z.B. ein Ort\, ein Gegenstand\, ein Titel.  Nichts ist einstudiert\, jede Geschichte entsteht im Moment vor den Augen der Zuschauer. Eine gelungene Mischung aus Situationskomik\, Pantomime\, Comedy\, Theater und Musik.\n„Theater mit therapeutischer Wirkung- zum Gesundlachen“  (Abendzeitung München).\nDie Beutelboxer: Sie wählen – wir servieren!
URL:https://www.beutelboxer.de/termin/copy-of-improshow-neunerplatz/
LOCATION:Theater am Neunerplatz\, Adelgundenweg 2A\, Würzburg\, 97082
ATTACH;FMTTYPE=image/jpeg:https://www.beutelboxer.de/wp-content/uploads/2018/11/Q4A1300.jpg
ORGANIZER;CN="Theater am Neunerplatz":MAILTO:theater@neunerplatz.de
END:VEVENT
BEGIN:VEVENT
DTSTART;TZID=Europe/Berlin:20261107T193000
DTEND;TZID=Europe/Berlin:20261107T193000
DTSTAMP:20260420T163054
CREATED:20251008T164250Z
LAST-MODIFIED:20260315T111025Z
UID:2781-1794079800-1794079800@www.beutelboxer.de
SUMMARY:Theater a la Carte - Stammheim
DESCRIPTION:Theater a` la Carte\n\nImprovisationstheater mit den Würzburger Beutelboxern. Mit über 30 Jahren Erfahrung gehören die Beutelboxer zu den ältesten Improgruppen Deutschlands und begeistern mit ihrer körperlichen und mimischen Spielart immer wieder ihr Publikum. Vier Schauspieler/in und ein Pianist improvisieren aus dem Stegreif Geschichten nach den Vorschlägen des Publikums: z.B. ein Ort\, ein Gegenstand\, ein Titel.  Nichts ist einstudiert\, jede Geschichte entsteht im Moment vor den Augen der Zuschauer. Eine gelungene Mischung aus Situationskomik\, Pantomime\, Comedy\, Theater und Musik.\n„Theater mit therapeutischer Wirkung- zum Gesundlachen“  (Abendzeitung München).\nDie Beutelboxer: Sie wählen – wir servieren \nKarten bei: Allianz-Agentur Magnus Wieland\, Maintal-Straße 12\, 97509 Stammheim\, Ansprechpartner: Karin Frank 016095452774 oder Karin Hahner 01758998777 \n 
URL:https://www.beutelboxer.de/termin/theater-a-la-carte-2/
LOCATION:Stammheim (Volkach) Pfarrsaal\, Am Weiher 3\, Stammheim\, 97509\, Germany
ATTACH;FMTTYPE=image/jpeg:https://www.beutelboxer.de/wp-content/uploads/2020/021354-3000px-scaled-1485x1707.jpg
END:VEVENT
BEGIN:VEVENT
DTSTART;TZID=Europe/Berlin:20270130T193000
DTEND;TZID=Europe/Berlin:20270130T193000
DTSTAMP:20260420T163054
CREATED:20250906T100818Z
LAST-MODIFIED:20260315T111400Z
UID:2769-1801337400-1801337400@www.beutelboxer.de
SUMMARY:Theater a la Carte - Höchberg
DESCRIPTION:DIE IMPROSHOW  “Theater Á La Carte”  \nSIE WÄHLEN – WIR SERVIEREN \nEin Theaterabend besonderer Klasse\, die Improshow der Würzburger Beutelboxer \nVier Schauspielende und ein Pianist spielen aus dem Stegreif Szenen nach Vorschlägen des Publikums. Nichts ist einstudiert\, jede Geschichte entsteht im Moment\, ohne Netz und doppelten Boden. Nennen Sie uns einen Ort\, einen Gegenstand\, einen Titel und wir machen Ihnen eine Szene. Theater à la Carte\, Sie wählen\, wir servieren. Eine gelungene Mischung aus Situationskomik\, Pantomime\, Comedy und Theater. \n„Endlich diktiert einmal der Zuschauer das Geschehen“\nNürnberger Anzeiger
URL:https://www.beutelboxer.de/termin/theater-a-la-carte/
LOCATION:Kulturscheune Höchberg\, Wallweg 3\, Höchberg\, 97204\, Deutschland
ATTACH;FMTTYPE=image/jpeg:https://www.beutelboxer.de/wp-content/uploads/2020/02/butelboxer_1292-1900px.jpg
ORGANIZER;CN="Kulturscheune H%C3%B6chberg":MAILTO:reinhardklinger@web.de
END:VEVENT
END:VCALENDAR